BEGIN:VCALENDAR
VERSION:2.0
PRODID:-//Goldgrube//myauktion.com//AT
CALSCALE:GREGORIAN
BEGIN:VEVENT
DTSTART:20250405T135603
DTEND:20250405T135633
LOCATION:Gewerbepark 13, 8562 Mooskirchen
DTSTAMP:20260421T141509
SUMMARY:MyAuktion: Ablauf Artikel Nr. 804321 Vista Longdrink Löffel 6teilig
URL;VALUE=URI:https://www.myauktion.com/versteigerung5914-position1916063-vista-longdrink-loeffel-6teilig.php
DESCRIPTION:
UID:myauktion-5914-1916063
BEGIN:VALARM
ACTION:DISPLAY
DESCRIPTION:
TRIGGER:-PT10M
END:VALARM
END:VEVENT
END:VCALENDAR