BEGIN:VCALENDAR
VERSION:2.0
PRODID:-//Goldgrube//myauktion.com//AT
CALSCALE:GREGORIAN
BEGIN:VEVENT
DTSTART:20250405T143256
DTEND:20250405T143326
LOCATION:Gewerbepark 13, 8562 Mooskirchen
DTSTAMP:20260420T114239
SUMMARY:MyAuktion: Ablauf Artikel Nr. 792502 Comfee Gefrierschrank Weiß 220-240V
URL;VALUE=URI:https://www.myauktion.com/versteigerung5921-position1918848-comfee-gefrierschrank-weiss-220-240v.php
DESCRIPTION:472x450x492mm/ Verpackung beschädigt /Funktion nicht getestet 
UID:myauktion-5921-1918848
BEGIN:VALARM
ACTION:DISPLAY
DESCRIPTION:472x450x492mm/ Verpackung beschädigt /Funktion nicht getestet 
TRIGGER:-PT10M
END:VALARM
END:VEVENT
END:VCALENDAR