BEGIN:VCALENDAR
VERSION:2.0
PRODID:-//Goldgrube//myauktion.com//AT
CALSCALE:GREGORIAN
BEGIN:VEVENT
DTSTART:20250407T103300
DTEND:20250407T103330
LOCATION:Gewerbepark 13, 8562 Mooskirchen
DTSTAMP:20260425T215019
SUMMARY:MyAuktion: Ablauf Artikel Nr. 805149 Kugelschreiber 
URL;VALUE=URI:https://www.myauktion.com/versteigerung5930-position1921475-kugelschreiber.php
DESCRIPTION:
UID:myauktion-5930-1921475
BEGIN:VALARM
ACTION:DISPLAY
DESCRIPTION:
TRIGGER:-PT10M
END:VALARM
END:VEVENT
END:VCALENDAR