BEGIN:VCALENDAR
VERSION:2.0
PRODID:-//Goldgrube//myauktion.com//AT
CALSCALE:GREGORIAN
BEGIN:VEVENT
DTSTART:20250430T111216
DTEND:20250430T111246
LOCATION:Gewerbepark 13, 8562 Mooskirchen
DTSTAMP:20260423T114644
SUMMARY:MyAuktion: Ablauf Artikel Nr. 812390 Whiskas Gemischtes Ragout Katzenfutter 4er Pack x12x85g
URL;VALUE=URI:https://www.myauktion.com/versteigerung6000-position1940053-whiskas-gemischtes-ragout-katzenfutter-4er-pack-x12x85g.php
DESCRIPTION:MHD 11.2026
UID:myauktion-6000-1940053
BEGIN:VALARM
ACTION:DISPLAY
DESCRIPTION:MHD 11.2026
TRIGGER:-PT10M
END:VALARM
END:VEVENT
END:VCALENDAR