BEGIN:VCALENDAR
VERSION:2.0
PRODID:-//Goldgrube//myauktion.com//AT
CALSCALE:GREGORIAN
BEGIN:VEVENT
DTSTART:20250430T111515
DTEND:20250430T111545
LOCATION:Gewerbepark 13, 8562 Mooskirchen
DTSTAMP:20260424T231815
SUMMARY:MyAuktion: Ablauf Artikel Nr. 812388 Smilla Katzenfutter 19x400g
URL;VALUE=URI:https://www.myauktion.com/versteigerung6000-position1940163-smilla-katzenfutter-19x400g.php
DESCRIPTION:MHD 09.2026/ Ohne Schütte 
UID:myauktion-6000-1940163
BEGIN:VALARM
ACTION:DISPLAY
DESCRIPTION:MHD 09.2026/ Ohne Schütte 
TRIGGER:-PT10M
END:VALARM
END:VEVENT
END:VCALENDAR