BEGIN:VCALENDAR
VERSION:2.0
PRODID:-//Goldgrube//myauktion.com//AT
CALSCALE:GREGORIAN
BEGIN:VEVENT
DTSTART:20250425T092900
DTEND:20250425T092930
LOCATION:Gewerbepark 13, 8562 Mooskirchen
DTSTAMP:20260420T114240
SUMMARY:MyAuktion: Ablauf Artikel Nr. 428066 Leifheit Handstaubwischer Duster flat, Art.Nr.  1164810
URL;VALUE=URI:https://www.myauktion.com/versteigerung6001-position1940607-leifheit-handstaubwischer-duster-flat-artnr-1164810.php
DESCRIPTION:
UID:myauktion-6001-1940607
BEGIN:VALARM
ACTION:DISPLAY
DESCRIPTION:
TRIGGER:-PT10M
END:VALARM
END:VEVENT
END:VCALENDAR