BEGIN:VCALENDAR
VERSION:2.0
PRODID:-//Goldgrube//myauktion.com//AT
CALSCALE:GREGORIAN
BEGIN:VEVENT
DTSTART:20250428T104400
DTEND:20250428T104430
LOCATION:Gewerbepark 13, 8562 Mooskirchen
DTSTAMP:20260425T235832
SUMMARY:MyAuktion: Ablauf Artikel Nr. 805665 Dr. Oetker Paw Patrol Muffins 395g
URL;VALUE=URI:https://www.myauktion.com/versteigerung6021-position1945577-dr-oetker-paw-patrol-muffins-395g.php
DESCRIPTION:MHD 03.2025
UID:myauktion-6021-1945577
BEGIN:VALARM
ACTION:DISPLAY
DESCRIPTION:MHD 03.2025
TRIGGER:-PT10M
END:VALARM
END:VEVENT
END:VCALENDAR