BEGIN:VCALENDAR
VERSION:2.0
PRODID:-//Goldgrube//myauktion.com//AT
CALSCALE:GREGORIAN
BEGIN:VEVENT
DTSTART:20250430T111930
DTEND:20250430T112000
LOCATION:Gewerbepark 13, 8562 Mooskirchen
DTSTAMP:20260421T110648
SUMMARY:MyAuktion: Ablauf Artikel Nr. 808899 EQOLOGY Essential food supplement
URL;VALUE=URI:https://www.myauktion.com/versteigerung6025-position1946479-eqology-essential-food-supplement.php
DESCRIPTION:08.2026
UID:myauktion-6025-1946479
BEGIN:VALARM
ACTION:DISPLAY
DESCRIPTION:08.2026
TRIGGER:-PT10M
END:VALARM
END:VEVENT
END:VCALENDAR