BEGIN:VCALENDAR
VERSION:2.0
PRODID:-//Goldgrube//myauktion.com//AT
CALSCALE:GREGORIAN
BEGIN:VEVENT
DTSTART:20250501T100330
DTEND:20250501T100400
LOCATION:Gewerbepark 13, 8562 Mooskirchen
DTSTAMP:20260421T155853
SUMMARY:MyAuktion: Ablauf Artikel Nr. 809746 Mango Overall 
URL;VALUE=URI:https://www.myauktion.com/versteigerung6026-position1947307-mango-overall.php
DESCRIPTION:Größe S
UID:myauktion-6026-1947307
BEGIN:VALARM
ACTION:DISPLAY
DESCRIPTION:Größe S
TRIGGER:-PT10M
END:VALARM
END:VEVENT
END:VCALENDAR