BEGIN:VCALENDAR
VERSION:2.0
PRODID:-//Goldgrube//myauktion.com//AT
CALSCALE:GREGORIAN
BEGIN:VEVENT
DTSTART:20250429T095315
DTEND:20250429T095345
LOCATION:Gewerbepark 13, 8562 Mooskirchen
DTSTAMP:20260426T033308
SUMMARY:MyAuktion: Ablauf Artikel Nr. 394313 Dreh und Trink 24x0,2l Kirsche
URL;VALUE=URI:https://www.myauktion.com/versteigerung6022-position1948460-dreh-und-trink-24x02l-kirsche.php
DESCRIPTION:MHD 12.11.2025
UID:myauktion-6022-1948460
BEGIN:VALARM
ACTION:DISPLAY
DESCRIPTION:MHD 12.11.2025
TRIGGER:-PT10M
END:VALARM
END:VEVENT
END:VCALENDAR