BEGIN:VCALENDAR
VERSION:2.0
PRODID:-//Goldgrube//myauktion.com//AT
CALSCALE:GREGORIAN
BEGIN:VEVENT
DTSTART:20250501T092700
DTEND:20250501T092730
LOCATION:Gewerbepark 13, 8562 Mooskirchen
DTSTAMP:20260422T135147
SUMMARY:MyAuktion: Ablauf Artikel Nr. 421633 2tlg. Seersucker Bettwäsche blaugrau 70x90 cm + 140x200 cm
URL;VALUE=URI:https://www.myauktion.com/versteigerung6043-position1948798-2tlg-seersucker-bettwaesche-blaugrau-70x90-cm-140x200-cm.php
DESCRIPTION:aus 100% Baumwolle mit Reißverschluss. 
UID:myauktion-6043-1948798
BEGIN:VALARM
ACTION:DISPLAY
DESCRIPTION:aus 100% Baumwolle mit Reißverschluss. 
TRIGGER:-PT10M
END:VALARM
END:VEVENT
END:VCALENDAR