BEGIN:VCALENDAR
VERSION:2.0
PRODID:-//Goldgrube//myauktion.com//AT
CALSCALE:GREGORIAN
BEGIN:VEVENT
DTSTART:20250504T153700
DTEND:20250504T153730
LOCATION:Gewerbepark 13, 8562 Mooskirchen
DTSTAMP:20260422T130929
SUMMARY:MyAuktion: Ablauf Artikel Nr. 812769 Piatnik Kartenspiel 3er Pack 
URL;VALUE=URI:https://www.myauktion.com/versteigerung6037-position1950251-piatnik-kartenspiel-3er-pack.php
DESCRIPTION:
UID:myauktion-6037-1950251
BEGIN:VALARM
ACTION:DISPLAY
DESCRIPTION:
TRIGGER:-PT10M
END:VALARM
END:VEVENT
END:VCALENDAR