BEGIN:VCALENDAR
VERSION:2.0
PRODID:-//Goldgrube//myauktion.com//AT
CALSCALE:GREGORIAN
BEGIN:VEVENT
DTSTART:20250502T092900
DTEND:20250502T092930
LOCATION:Gewerbepark 13, 8562 Mooskirchen
DTSTAMP:20260426T055839
SUMMARY:MyAuktion: Ablauf Artikel Nr. 805713 Soppec Construction Fluo TP 500ml 1415160 
URL;VALUE=URI:https://www.myauktion.com/versteigerung6033-position1951618-soppec-construction-fluo-tp-500ml-1415160.php
DESCRIPTION:MHD 05.2029
UID:myauktion-6033-1951618
BEGIN:VALARM
ACTION:DISPLAY
DESCRIPTION:MHD 05.2029
TRIGGER:-PT10M
END:VALARM
END:VEVENT
END:VCALENDAR