BEGIN:VCALENDAR
VERSION:2.0
PRODID:-//Goldgrube//myauktion.com//AT
CALSCALE:GREGORIAN
BEGIN:VEVENT
DTSTART:20250503T141600
DTEND:20250503T141630
LOCATION:Gewerbepark 13, 8562 Mooskirchen
DTSTAMP:20260421T093331
SUMMARY:MyAuktion: Ablauf Artikel Nr. 360457 Bulliant Ledergürtel schwarz Herren 120cm
URL;VALUE=URI:https://www.myauktion.com/versteigerung6035-position1953132-bulliant-lederguertel-schwarz-herren-120cm.php
DESCRIPTION:
UID:myauktion-6035-1953132
BEGIN:VALARM
ACTION:DISPLAY
DESCRIPTION:
TRIGGER:-PT10M
END:VALARM
END:VEVENT
END:VCALENDAR