BEGIN:VCALENDAR
VERSION:2.0
PRODID:-//Goldgrube//myauktion.com//AT
CALSCALE:GREGORIAN
BEGIN:VEVENT
DTSTART:20250511T130500
DTEND:20250511T130530
LOCATION:Gewerbepark 13, 8562 Mooskirchen
DTSTAMP:20260420T001330
SUMMARY:MyAuktion: Ablauf Artikel Nr. 815227 Nigrin Power Antifrost 5l
URL;VALUE=URI:https://www.myauktion.com/versteigerung6065-position1958266-nigrin-power-antifrost-5l.php
DESCRIPTION:
UID:myauktion-6065-1958266
BEGIN:VALARM
ACTION:DISPLAY
DESCRIPTION:
TRIGGER:-PT10M
END:VALARM
END:VEVENT
END:VCALENDAR