BEGIN:VCALENDAR
VERSION:2.0
PRODID:-//Goldgrube//myauktion.com//AT
CALSCALE:GREGORIAN
BEGIN:VEVENT
DTSTART:20250518T135600
DTEND:20250518T135630
LOCATION:Gewerbepark 13, 8562 Mooskirchen
DTSTAMP:20260421T000532
SUMMARY:MyAuktion: Ablauf Artikel Nr. 816939 Holzkern Damenuhr 361L Stainless steel 
URL;VALUE=URI:https://www.myauktion.com/versteigerung6090-position1967185-holzkern-damenuhr-361l-stainless-steel.php
DESCRIPTION:
UID:myauktion-6090-1967185
BEGIN:VALARM
ACTION:DISPLAY
DESCRIPTION:
TRIGGER:-PT10M
END:VALARM
END:VEVENT
END:VCALENDAR