BEGIN:VCALENDAR
VERSION:2.0
PRODID:-//Goldgrube//myauktion.com//AT
CALSCALE:GREGORIAN
BEGIN:VEVENT
DTSTART:20250831T120100
DTEND:20250831T120130
LOCATION:Gewerbepark 13, 8562 Mooskirchen
DTSTAMP:20260424T155045
SUMMARY:MyAuktion: Ablauf Artikel Nr. 851617 Der Verliebte Schwarzbrenner und wie er die Welt sah Roman
URL;VALUE=URI:https://www.myauktion.com/versteigerung6513-position2086885-der-verliebte-schwarzbrenner-und-wie-er-die-welt-sah-roman.php
DESCRIPTION:Humorvolle Geschichte über Weltsicht und Abenteuer.
UID:myauktion-6513-2086885
BEGIN:VALARM
ACTION:DISPLAY
DESCRIPTION:Humorvolle Geschichte über Weltsicht und Abenteuer.
TRIGGER:-PT10M
END:VALARM
END:VEVENT
END:VCALENDAR