BEGIN:VCALENDAR
VERSION:2.0
PRODID:-//Goldgrube//myauktion.com//AT
CALSCALE:GREGORIAN
BEGIN:VEVENT
DTSTART:20250828T110600
DTEND:20250828T110630
LOCATION:Gewerbepark 13, 8562 Mooskirchen
DTSTAMP:20260424T164350
SUMMARY:MyAuktion: Ablauf Artikel Nr. 440791 Betzold Gewichte zum Rechnen üben für Kinder 
URL;VALUE=URI:https://www.myauktion.com/versteigerung6524-position2093588-betzold-gewichte-zum-rechnen-ueben-fuer-kinder.php
DESCRIPTION:
UID:myauktion-6524-2093588
BEGIN:VALARM
ACTION:DISPLAY
DESCRIPTION:
TRIGGER:-PT10M
END:VALARM
END:VEVENT
END:VCALENDAR