BEGIN:VCALENDAR
VERSION:2.0
PRODID:-//Goldgrube//myauktion.com//AT
CALSCALE:GREGORIAN
BEGIN:VEVENT
DTSTART:20260104T111400
DTEND:20260104T111430
LOCATION:Gewerbepark 13, 8562 Mooskirchen
DTSTAMP:20260425T023026
SUMMARY:MyAuktion: Ablauf Artikel Nr. 885101 Frostschutzkonzentrat für Solaranlagen 10L
URL;VALUE=URI:https://www.myauktion.com/versteigerung7126-position2297499-frostschutzkonzentrat-fuer-solaranlagen-10l.php
DESCRIPTION:
UID:myauktion-7126-2297499
BEGIN:VALARM
ACTION:DISPLAY
DESCRIPTION:
TRIGGER:-PT10M
END:VALARM
END:VEVENT
END:VCALENDAR