BEGIN:VCALENDAR
VERSION:2.0
PRODID:-//Goldgrube//myauktion.com//AT
CALSCALE:GREGORIAN
BEGIN:VEVENT
DTSTART:20260313T163200
DTEND:20260313T163230
LOCATION:Gewerbepark 13, 8562 Mooskirchen
DTSTAMP:20260422T025917
SUMMARY:MyAuktion: Ablauf Artikel Nr. 441745 Paladin Zielfischschnur 0,50mm 19,0kg 150m ultrastark Idealdehnung 
URL;VALUE=URI:https://www.myauktion.com/versteigerung7409-position2377513-paladin-zielfischschnur-050mm-190kg-150m-ultrastark-idealdehnung.php
DESCRIPTION:
UID:myauktion-7409-2377513
BEGIN:VALARM
ACTION:DISPLAY
DESCRIPTION:
TRIGGER:-PT10M
END:VALARM
END:VEVENT
END:VCALENDAR