BEGIN:VCALENDAR
VERSION:2.0
PRODID:-//Goldgrube//myauktion.com//AT
CALSCALE:GREGORIAN
BEGIN:VEVENT
DTSTART:20260418T102200
DTEND:20260418T102230
LOCATION:Gewerbepark 13, 8562 Mooskirchen
DTSTAMP:20260423T115831
SUMMARY:MyAuktion: Ablauf Artikel Nr. 962810 Bio Mat Natürliche Anzünder aus Holz mit Harzanteil 10kg 
URL;VALUE=URI:https://www.myauktion.com/versteigerung7578-position2421143-bio-mat-natuerliche-anzuender-aus-holz-mit-harzanteil-10kg.php
DESCRIPTION:
UID:myauktion-7578-2421143
BEGIN:VALARM
ACTION:DISPLAY
DESCRIPTION:
TRIGGER:-PT10M
END:VALARM
END:VEVENT
END:VCALENDAR