BEGIN:VCALENDAR
VERSION:2.0
PRODID:-//Goldgrube//myauktion.com//AT
CALSCALE:GREGORIAN
BEGIN:VEVENT
DTSTART:20260419T100230
DTEND:20260419T100300
LOCATION:Gewerbepark 13, 8562 Mooskirchen
DTSTAMP:20260419T183839
SUMMARY:MyAuktion: Ablauf Artikel Nr. 963439 Adidas Novaflight 2 Damen Sportschuhe COPA MUNDIAL
URL;VALUE=URI:https://www.myauktion.com/versteigerung7585-position2423279-adidas-novaflight-2-damen-sportschuhe-copa-mundial.php
DESCRIPTION:Größe: 39 1/3
UID:myauktion-7585-2423279
BEGIN:VALARM
ACTION:DISPLAY
DESCRIPTION:Größe: 39 1/3
TRIGGER:-PT10M
END:VALARM
END:VEVENT
END:VCALENDAR