BEGIN:VCALENDAR
VERSION:2.0
PRODID:-//Goldgrube//myauktion.com//AT
CALSCALE:GREGORIAN
BEGIN:VEVENT
DTSTART:20260421T102700
DTEND:20260421T102730
LOCATION:Gewerbepark 13, 8562 Mooskirchen
DTSTAMP:20260419T211838
SUMMARY:MyAuktion: Ablauf Artikel Nr. 959979 Sklum Deleyna Floating Wooden Nightstand Brown Natural Wood 289/500
URL;VALUE=URI:https://www.myauktion.com/versteigerung7593-position2425204-sklum-deleyna-floating-wooden-nightstand-brown-natural-wood-289-500.php
DESCRIPTION:
UID:myauktion-7593-2425204
BEGIN:VALARM
ACTION:DISPLAY
DESCRIPTION:
TRIGGER:-PT10M
END:VALARM
END:VEVENT
END:VCALENDAR