BEGIN:VCALENDAR
VERSION:2.0
PRODID:-//Goldgrube//myauktion.com//AT
CALSCALE:GREGORIAN
BEGIN:VEVENT
DTSTART:20260423T091500
DTEND:20260423T091530
LOCATION:Gewerbepark 13, 8562 Mooskirchen
DTSTAMP:20260420T182830
SUMMARY:MyAuktion: Ablauf Artikel Nr. 963883 BOSCH 100 Stück, flexible Metall-Sägeblätter
S922 EF 
 Art.Nr: 2608656028
URL;VALUE=URI:https://www.myauktion.com/versteigerung7597-position2426495-bosch-100-stueck-flexible-metall-saegeblaetters922-ef--artnr-2608656028.php
DESCRIPTION:
UID:myauktion-7597-2426495
BEGIN:VALARM
ACTION:DISPLAY
DESCRIPTION:
TRIGGER:-PT10M
END:VALARM
END:VEVENT
END:VCALENDAR