BEGIN:VCALENDAR
VERSION:2.0
PRODID:-//Goldgrube//myauktion.com//AT
CALSCALE:GREGORIAN
BEGIN:VEVENT
DTSTART:20260425T110900
DTEND:20260425T110930
LOCATION:Gewerbepark 13, 8562 Mooskirchen
DTSTAMP:20260419T215133
SUMMARY:MyAuktion: Ablauf Artikel Nr. 954755 3 Paar Haberkorn Schutzhandschuhe Sleeve Grösse L   L29989
URL;VALUE=URI:https://www.myauktion.com/versteigerung7610-position2428798-3-paar-haberkorn-schutzhandschuhe-sleeve-groesse-l-l29989.php
DESCRIPTION:
UID:myauktion-7610-2428798
BEGIN:VALARM
ACTION:DISPLAY
DESCRIPTION:
TRIGGER:-PT10M
END:VALARM
END:VEVENT
END:VCALENDAR