BEGIN:VCALENDAR
VERSION:2.0
PRODID:-//Goldgrube//myauktion.com//AT
CALSCALE:GREGORIAN
BEGIN:VEVENT
DTSTART:20260425T143900
DTEND:20260425T143930
LOCATION:Gewerbepark 13, 8562 Mooskirchen
DTSTAMP:20260422T060750
SUMMARY:MyAuktion: Ablauf Artikel Nr. 961269 ZFNM 33KM cat. 6 F/UTP 4x2x23 AWG LSZH 10m
URL;VALUE=URI:https://www.myauktion.com/versteigerung7611-position2428997-zfnm-33km-cat-6-f-utp-4x2x23-awg-lszh-10m.php
DESCRIPTION:
UID:myauktion-7611-2428997
BEGIN:VALARM
ACTION:DISPLAY
DESCRIPTION:
TRIGGER:-PT10M
END:VALARM
END:VEVENT
END:VCALENDAR