BEGIN:VCALENDAR
VERSION:2.0
PRODID:-//Goldgrube//myauktion.com//AT
CALSCALE:GREGORIAN
BEGIN:VEVENT
DTSTART:20260426T140300
DTEND:20260426T140330
LOCATION:Gewerbepark 13, 8562 Mooskirchen
DTSTAMP:20260421T200029
SUMMARY:MyAuktion: Ablauf Artikel Nr. 961362 Ikea 4x Citronhaj  Desing Friso Wiersma  10cl 605 532 10 
URL;VALUE=URI:https://www.myauktion.com/versteigerung7612-position2429108-ikea-4x-citronhaj-desing-friso-wiersma-10cl-605-532-10.php
DESCRIPTION:
UID:myauktion-7612-2429108
BEGIN:VALARM
ACTION:DISPLAY
DESCRIPTION:
TRIGGER:-PT10M
END:VALARM
END:VEVENT
END:VCALENDAR