BEGIN:VCALENDAR
VERSION:2.0
PRODID:-//Goldgrube//myauktion.com//AT
CALSCALE:GREGORIAN
BEGIN:VEVENT
DTSTART:20260531T133900
DTEND:20260531T133930
LOCATION:Gewerbepark 13, 8562 Mooskirchen
DTSTAMP:20260419T142655
SUMMARY:MyAuktion: Ablauf Artikel Nr. 925326 Sitzkissen personalisiert "Julius"
URL;VALUE=URI:https://www.myauktion.com/versteigerung7616-position2431074-sitzkissen-personalisiert-34julius-34.php
DESCRIPTION:
UID:myauktion-7616-2431074
BEGIN:VALARM
ACTION:DISPLAY
DESCRIPTION:
TRIGGER:-PT10M
END:VALARM
END:VEVENT
END:VCALENDAR