BEGIN:VCALENDAR
VERSION:2.0
PRODID:-//Goldgrube//myauktion.com//AT
CALSCALE:GREGORIAN
BEGIN:VEVENT
DTSTART:20260531T134600
DTEND:20260531T134630
LOCATION:Gewerbepark 13, 8562 Mooskirchen
DTSTAMP:20260419T150816
SUMMARY:MyAuktion: Ablauf Artikel Nr. 925333 Sitzkissen personalisiert "Emmerich"
URL;VALUE=URI:https://www.myauktion.com/versteigerung7616-position2431081-sitzkissen-personalisiert-34emmerich-34.php
DESCRIPTION:
UID:myauktion-7616-2431081
BEGIN:VALARM
ACTION:DISPLAY
DESCRIPTION:
TRIGGER:-PT10M
END:VALARM
END:VEVENT
END:VCALENDAR