BEGIN:VCALENDAR
VERSION:2.0
PRODID:-//Goldgrube//myauktion.com//AT
CALSCALE:GREGORIAN
BEGIN:VEVENT
DTSTART:20260531T135000
DTEND:20260531T135030
LOCATION:Gewerbepark 13, 8562 Mooskirchen
DTSTAMP:20260419T142655
SUMMARY:MyAuktion: Ablauf Artikel Nr. 925337 Sitzkissen personalisiert "Leonhard"
URL;VALUE=URI:https://www.myauktion.com/versteigerung7616-position2431085-sitzkissen-personalisiert-34leonhard-34.php
DESCRIPTION:
UID:myauktion-7616-2431085
BEGIN:VALARM
ACTION:DISPLAY
DESCRIPTION:
TRIGGER:-PT10M
END:VALARM
END:VEVENT
END:VCALENDAR