BEGIN:VCALENDAR
VERSION:2.0
PRODID:-//Goldgrube//myauktion.com//AT
CALSCALE:GREGORIAN
BEGIN:VEVENT
DTSTART:20260531T135800
DTEND:20260531T135830
LOCATION:Gewerbepark 13, 8562 Mooskirchen
DTSTAMP:20260419T142654
SUMMARY:MyAuktion: Ablauf Artikel Nr. 925345 Sitzkissen personalisiert "Gerlinde"
URL;VALUE=URI:https://www.myauktion.com/versteigerung7616-position2431093-sitzkissen-personalisiert-34gerlinde-34.php
DESCRIPTION:
UID:myauktion-7616-2431093
BEGIN:VALARM
ACTION:DISPLAY
DESCRIPTION:
TRIGGER:-PT10M
END:VALARM
END:VEVENT
END:VCALENDAR