BEGIN:VCALENDAR
VERSION:2.0
PRODID:-//Goldgrube//myauktion.com//AT
CALSCALE:GREGORIAN
BEGIN:VEVENT
DTSTART:20260531T141400
DTEND:20260531T141430
LOCATION:Gewerbepark 13, 8562 Mooskirchen
DTSTAMP:20260419T142643
SUMMARY:MyAuktion: Ablauf Artikel Nr. 925361 Sitzkissen personalisiert "Fred"
URL;VALUE=URI:https://www.myauktion.com/versteigerung7616-position2431109-sitzkissen-personalisiert-34fred-34.php
DESCRIPTION:
UID:myauktion-7616-2431109
BEGIN:VALARM
ACTION:DISPLAY
DESCRIPTION:
TRIGGER:-PT10M
END:VALARM
END:VEVENT
END:VCALENDAR