BEGIN:VCALENDAR
VERSION:2.0
PRODID:-//Goldgrube//myauktion.com//AT
CALSCALE:GREGORIAN
BEGIN:VEVENT
DTSTART:20260531T141900
DTEND:20260531T141930
LOCATION:Gewerbepark 13, 8562 Mooskirchen
DTSTAMP:20260419T142657
SUMMARY:MyAuktion: Ablauf Artikel Nr. 925366 Sitzkissen personalisiert "Felix"
URL;VALUE=URI:https://www.myauktion.com/versteigerung7616-position2431114-sitzkissen-personalisiert-34felix-34.php
DESCRIPTION:
UID:myauktion-7616-2431114
BEGIN:VALARM
ACTION:DISPLAY
DESCRIPTION:
TRIGGER:-PT10M
END:VALARM
END:VEVENT
END:VCALENDAR