BEGIN:VCALENDAR
VERSION:2.0
PRODID:-//Goldgrube//myauktion.com//AT
CALSCALE:GREGORIAN
BEGIN:VEVENT
DTSTART:20260531T144500
DTEND:20260531T144530
LOCATION:Gewerbepark 13, 8562 Mooskirchen
DTSTAMP:20260419T142649
SUMMARY:MyAuktion: Ablauf Artikel Nr. 925392 Sitzkissen personalisiert "Luis"
URL;VALUE=URI:https://www.myauktion.com/versteigerung7616-position2431140-sitzkissen-personalisiert-34luis-34.php
DESCRIPTION:
UID:myauktion-7616-2431140
BEGIN:VALARM
ACTION:DISPLAY
DESCRIPTION:
TRIGGER:-PT10M
END:VALARM
END:VEVENT
END:VCALENDAR