BEGIN:VCALENDAR
VERSION:2.0
PRODID:-//Goldgrube//myauktion.com//AT
CALSCALE:GREGORIAN
BEGIN:VEVENT
DTSTART:20260426T170400
DTEND:20260426T170430
LOCATION:Gewerbepark 13, 8562 Mooskirchen
DTSTAMP:20260422T075613
SUMMARY:MyAuktion: Ablauf Artikel Nr. 963010 SWE Reinigungs-Granulat für Hot Tubs 450g
URL;VALUE=URI:https://www.myauktion.com/versteigerung7619-position2431420-swe-reinigungs-granulat-fuer-hot-tubs-450g.php
DESCRIPTION:
UID:myauktion-7619-2431420
BEGIN:VALARM
ACTION:DISPLAY
DESCRIPTION:
TRIGGER:-PT10M
END:VALARM
END:VEVENT
END:VCALENDAR