BEGIN:VCALENDAR
VERSION:2.0
PRODID:-//Goldgrube//myauktion.com//AT
CALSCALE:GREGORIAN
BEGIN:VEVENT
DTSTART:20260427T124500
DTEND:20260427T124530
LOCATION:Gewerbepark 13, 8562 Mooskirchen
DTSTAMP:20260422T194454
SUMMARY:MyAuktion: Ablauf Artikel Nr. 442321 Fuxtec Fräsbreitenerweiterung für FX-AF1139
URL;VALUE=URI:https://www.myauktion.com/versteigerung7617-position2431789-fuxtec-fraesbreitenerweiterung-fuer-fx-af1139.php
DESCRIPTION:
UID:myauktion-7617-2431789
BEGIN:VALARM
ACTION:DISPLAY
DESCRIPTION:
TRIGGER:-PT10M
END:VALARM
END:VEVENT
END:VCALENDAR