BEGIN:VCALENDAR
VERSION:2.0
PRODID:-//Goldgrube//myauktion.com//AT
CALSCALE:GREGORIAN
BEGIN:VEVENT
DTSTART:20260427T130800
DTEND:20260427T130830
LOCATION:Gewerbepark 13, 8562 Mooskirchen
DTSTAMP:20260424T094838
SUMMARY:MyAuktion: Ablauf Artikel Nr. 442360 Trigano Jardin Le Boulay Liner 490x370x130 LI500
URL;VALUE=URI:https://www.myauktion.com/versteigerung7617-position2431811-trigano-jardin-le-boulay-liner-490x370x130-li500.php
DESCRIPTION:Farbe: Blau. Gewicht: 16.33 kg
UID:myauktion-7617-2431811
BEGIN:VALARM
ACTION:DISPLAY
DESCRIPTION:Farbe: Blau. Gewicht: 16.33 kg
TRIGGER:-PT10M
END:VALARM
END:VEVENT
END:VCALENDAR