BEGIN:VCALENDAR
VERSION:2.0
PRODID:-//Goldgrube//myauktion.com//AT
CALSCALE:GREGORIAN
BEGIN:VEVENT
DTSTART:20260428T105000
DTEND:20260428T105030
LOCATION:Gewerbepark 13, 8562 Mooskirchen
DTSTAMP:20260420T105631
SUMMARY:MyAuktion: Ablauf Artikel Nr. 955955 How to Drain your Dragon World of Berk Red Death Chomping Rampage 
URL;VALUE=URI:https://www.myauktion.com/versteigerung7621-position2432291-how-to-drain-your-dragon-world-of-berk-red-death-chomping-rampage.php
DESCRIPTION:
UID:myauktion-7621-2432291
BEGIN:VALARM
ACTION:DISPLAY
DESCRIPTION:
TRIGGER:-PT10M
END:VALARM
END:VEVENT
END:VCALENDAR