BEGIN:VCALENDAR
VERSION:2.0
PRODID:-//Goldgrube//myauktion.com//AT
CALSCALE:GREGORIAN
BEGIN:VEVENT
DTSTART:20260428T095900
DTEND:20260428T095930
LOCATION:Gewerbepark 13, 8562 Mooskirchen
DTSTAMP:20260421T124857
SUMMARY:MyAuktion: Ablauf Artikel Nr. 955488 Proxxon Industrial Komplett-Steckschlüsselsatz mit Knüppelratschen 1/4 und 1/2 
URL;VALUE=URI:https://www.myauktion.com/versteigerung7621-position2432302-proxxon-industrial-komplett-steckschluesselsatz-mit-knueppelratschen-1-4-und-1-2.php
DESCRIPTION:
UID:myauktion-7621-2432302
BEGIN:VALARM
ACTION:DISPLAY
DESCRIPTION:
TRIGGER:-PT10M
END:VALARM
END:VEVENT
END:VCALENDAR