BEGIN:VCALENDAR
VERSION:2.0
PRODID:-//Goldgrube//myauktion.com//AT
CALSCALE:GREGORIAN
BEGIN:VEVENT
DTSTART:20260428T112400
DTEND:20260428T112430
LOCATION:Gewerbepark 13, 8562 Mooskirchen
DTSTAMP:20260422T114409
SUMMARY:MyAuktion: Ablauf Artikel Nr. 955980 Swagelok Metric Tube Fittings S05527604B 
URL;VALUE=URI:https://www.myauktion.com/versteigerung7621-position2432334-swagelok-metric-tube-fittings-s05527604b.php
DESCRIPTION:
UID:myauktion-7621-2432334
BEGIN:VALARM
ACTION:DISPLAY
DESCRIPTION:
TRIGGER:-PT10M
END:VALARM
END:VEVENT
END:VCALENDAR