BEGIN:VCALENDAR
VERSION:2.0
PRODID:-//Goldgrube//myauktion.com//AT
CALSCALE:GREGORIAN
BEGIN:VEVENT
DTSTART:20260428T101900
DTEND:20260428T101930
LOCATION:Gewerbepark 13, 8562 Mooskirchen
DTSTAMP:20260422T161437
SUMMARY:MyAuktion: Ablauf Artikel Nr. 955504 Wasserfester Fliesen-Porzellan-Spalt-Reparaturmittel 2x20ml
URL;VALUE=URI:https://www.myauktion.com/versteigerung7621-position2432391-wasserfester-fliesen-porzellan-spalt-reparaturmittel-2x20ml.php
DESCRIPTION:
UID:myauktion-7621-2432391
BEGIN:VALARM
ACTION:DISPLAY
DESCRIPTION:
TRIGGER:-PT10M
END:VALARM
END:VEVENT
END:VCALENDAR