BEGIN:VCALENDAR
VERSION:2.0
PRODID:-//Goldgrube//myauktion.com//AT
CALSCALE:GREGORIAN
BEGIN:VEVENT
DTSTART:20260429T091300
DTEND:20260429T091330
LOCATION:Gewerbepark 13, 8562 Mooskirchen
DTSTAMP:20260419T205716
SUMMARY:MyAuktion: Ablauf Artikel Nr. 955227 Kürbishof Koller Kürbiskernöl je 0,5L
URL;VALUE=URI:https://www.myauktion.com/versteigerung7624-position2432876-kuerbishof-koller-kuerbiskernoel-je-05l.php
DESCRIPTION:
UID:myauktion-7624-2432876
BEGIN:VALARM
ACTION:DISPLAY
DESCRIPTION:
TRIGGER:-PT10M
END:VALARM
END:VEVENT
END:VCALENDAR