BEGIN:VCALENDAR
VERSION:2.0
PRODID:-//Goldgrube//myauktion.com//AT
CALSCALE:GREGORIAN
BEGIN:VEVENT
DTSTART:20260429T091600
DTEND:20260429T091630
LOCATION:Gewerbepark 13, 8562 Mooskirchen
DTSTAMP:20260422T071836
SUMMARY:MyAuktion: Ablauf Artikel Nr. 955228 Kürbishof Koller Kürbiskernöl je 0,25L
URL;VALUE=URI:https://www.myauktion.com/versteigerung7624-position2432880-kuerbishof-koller-kuerbiskernoel-je-025l.php
DESCRIPTION:
UID:myauktion-7624-2432880
BEGIN:VALARM
ACTION:DISPLAY
DESCRIPTION:
TRIGGER:-PT10M
END:VALARM
END:VEVENT
END:VCALENDAR