BEGIN:VCALENDAR
VERSION:2.0
PRODID:-//Goldgrube//myauktion.com//AT
CALSCALE:GREGORIAN
BEGIN:VEVENT
DTSTART:20260428T121100
DTEND:20260428T121130
LOCATION:Gewerbepark 13, 8562 Mooskirchen
DTSTAMP:20260426T053558
SUMMARY:MyAuktion: Ablauf Artikel Nr. 523939 Fröling Steuergerät für Heizungsanlage 38GT062090A
URL;VALUE=URI:https://www.myauktion.com/versteigerung7622-position2433304-froeling-steuergeraet-fuer-heizungsanlage-38gt062090a.php
DESCRIPTION:38GT062090A
UID:myauktion-7622-2433304
BEGIN:VALARM
ACTION:DISPLAY
DESCRIPTION:38GT062090A
TRIGGER:-PT10M
END:VALARM
END:VEVENT
END:VCALENDAR