BEGIN:VCALENDAR
VERSION:2.0
PRODID:-//Goldgrube//myauktion.com//AT
CALSCALE:GREGORIAN
BEGIN:VEVENT
DTSTART:20260429T153800
DTEND:20260429T153830
LOCATION:Gewerbepark 13, 8562 Mooskirchen
DTSTAMP:20260419T195656
SUMMARY:MyAuktion: Ablauf Artikel Nr. 524437 Deckel für Kaffeebecher to go Espresso 10x100Stk AL34R 
URL;VALUE=URI:https://www.myauktion.com/versteigerung7625-position2433968-deckel-fuer-kaffeebecher-to-go-espresso-10x100stk-al34r.php
DESCRIPTION:
UID:myauktion-7625-2433968
BEGIN:VALARM
ACTION:DISPLAY
DESCRIPTION:
TRIGGER:-PT10M
END:VALARM
END:VEVENT
END:VCALENDAR