BEGIN:VCALENDAR
VERSION:2.0
PRODID:-//Goldgrube//myauktion.com//AT
CALSCALE:GREGORIAN
BEGIN:VEVENT
DTSTART:20260429T100800
DTEND:20260429T100830
LOCATION:Gewerbepark 13, 8562 Mooskirchen
DTSTAMP:20260420T173603
SUMMARY:MyAuktion: Ablauf Artikel Nr. 950822 Vario Tech Rückstauklappe für Zisternen und Regenwassertank Aussendurchmesser 30cm  
URL;VALUE=URI:https://www.myauktion.com/versteigerung7626-position2435351-vario-tech-rueckstauklappe-fuer-zisternen-und-regenwassertank-aussendurchmesser-30cm.php
DESCRIPTION:
UID:myauktion-7626-2435351
BEGIN:VALARM
ACTION:DISPLAY
DESCRIPTION:
TRIGGER:-PT10M
END:VALARM
END:VEVENT
END:VCALENDAR