BEGIN:VCALENDAR
VERSION:2.0
PRODID:-//Goldgrube//myauktion.com//AT
CALSCALE:GREGORIAN
BEGIN:VEVENT
DTSTART:20260429T121200
DTEND:20260429T121230
LOCATION:Gewerbepark 13, 8562 Mooskirchen
DTSTAMP:20260419T160431
SUMMARY:MyAuktion: Ablauf Artikel Nr. 951495 Peppa Pig Kordel Tasche Turnbeutel 40cm für Kinder 2 Stück 
URL;VALUE=URI:https://www.myauktion.com/versteigerung7626-position2435651-peppa-pig-kordel-tasche-turnbeutel-40cm-fuer-kinder-2-stueck.php
DESCRIPTION:
UID:myauktion-7626-2435651
BEGIN:VALARM
ACTION:DISPLAY
DESCRIPTION:
TRIGGER:-PT10M
END:VALARM
END:VEVENT
END:VCALENDAR