BEGIN:VCALENDAR
VERSION:2.0
PRODID:-//Goldgrube//myauktion.com//AT
CALSCALE:GREGORIAN
BEGIN:VEVENT
DTSTART:20260501T130400
DTEND:20260501T130430
LOCATION:Gewerbepark 13, 8562 Mooskirchen
DTSTAMP:20260421T053128
SUMMARY:MyAuktion: Ablauf Artikel Nr. 524509 Go Primal Mag-Zinc-B6 Recover & Regenerate Supplements 80g(45Kapseln) 
URL;VALUE=URI:https://www.myauktion.com/versteigerung7633-position2435777-go-primal-mag-zinc-b6-recover-38-regenerate-supplements-80g45kapseln.php
DESCRIPTION:MHD 01.2028 
UID:myauktion-7633-2435777
BEGIN:VALARM
ACTION:DISPLAY
DESCRIPTION:MHD 01.2028 
TRIGGER:-PT10M
END:VALARM
END:VEVENT
END:VCALENDAR