BEGIN:VCALENDAR
VERSION:2.0
PRODID:-//Goldgrube//myauktion.com//AT
CALSCALE:GREGORIAN
BEGIN:VEVENT
DTSTART:20260501T092400
DTEND:20260501T092430
LOCATION:Gewerbepark 13, 8562 Mooskirchen
DTSTAMP:20260421T023003
SUMMARY:MyAuktion: Ablauf Artikel Nr. 523036 VEVOR Tough Tools Fülldraht , Half Price Flux Core Mig Wire size: 0.03"/0.8mm 
URL;VALUE=URI:https://www.myauktion.com/versteigerung7633-position2435798-vevor-tough-tools-fuelldraht--half-price-flux-core-mig-wire-size-003-34-08mm.php
DESCRIPTION:
UID:myauktion-7633-2435798
BEGIN:VALARM
ACTION:DISPLAY
DESCRIPTION:
TRIGGER:-PT10M
END:VALARM
END:VEVENT
END:VCALENDAR