BEGIN:VCALENDAR
VERSION:2.0
PRODID:-//Goldgrube//myauktion.com//AT
CALSCALE:GREGORIAN
BEGIN:VEVENT
DTSTART:20260501T141400
DTEND:20260501T141430
LOCATION:Gewerbepark 13, 8562 Mooskirchen
DTSTAMP:20260421T164354
SUMMARY:MyAuktion: Ablauf Artikel Nr. 524560 Be Cool Lamellenglätter für Klimaanlagen BCSPKZ02 
URL;VALUE=URI:https://www.myauktion.com/versteigerung7633-position2435862-be-cool-lamellenglaetter-fuer-klimaanlagen-bcspkz02.php
DESCRIPTION:
UID:myauktion-7633-2435862
BEGIN:VALARM
ACTION:DISPLAY
DESCRIPTION:
TRIGGER:-PT10M
END:VALARM
END:VEVENT
END:VCALENDAR